BEGIN:VCALENDAR
VERSION:2.0
PRODID:-//Winter-Praxismanagement - ECPv6.15.20//NONSGML v1.0//EN
CALSCALE:GREGORIAN
METHOD:PUBLISH
X-WR-CALNAME:Winter-Praxismanagement
X-ORIGINAL-URL:https://winter-praxismanagement.de
X-WR-CALDESC:Veranstaltungen für Winter-Praxismanagement
REFRESH-INTERVAL;VALUE=DURATION:PT1H
X-Robots-Tag:noindex
X-PUBLISHED-TTL:PT1H
BEGIN:VTIMEZONE
TZID:UTC
BEGIN:STANDARD
TZOFFSETFROM:+0000
TZOFFSETTO:+0000
TZNAME:UTC
DTSTART:20210101T000000
END:STANDARD
END:VTIMEZONE
BEGIN:VEVENT
DTSTART;VALUE=DATE:20250319
DTEND;VALUE=DATE:20250321
DTSTAMP:20260424T103439
CREATED:20250118T144416Z
LAST-MODIFIED:20250202T111333Z
UID:9103-1742342400-1742515199@winter-praxismanagement.de
SUMMARY:Fachfremd\, na und! - Ein Blick in die Zukunft
DESCRIPTION:Datum: Mittwoch\, 19. & 20. März 2025\nUhrzeit: 09:00 – 17:00 Uhr\nVeranstaltungsort: KA – Schulungsraum\, Joseph-Meyer-Straße 8-10\, 68167 Mannheim\nSeminargebühr: 225\,00 €\nAnmeldung: Plätze begrenzt – Jetzt im Zahnärztehaus Mannheim anmelden! \nÜberblick: \nDas Seminar richtet sich an fachfremdes Personal in Zahnarztpraxen\, wie Bürokaufleute\, Hotelfachkräfte\, Telefonisten\, und Verkaufende\, die an der Rezeption und in der Verwaltung eingesetzt werden. Es bietet umfassende Einblicke in die praxisinternen Abläufe und rechtlichen Grundlagen\, um die täglichen Herausforderungen professionell zu meistern. \nSeminarinhalte: \n\nRechtliche Grenzen: Was dürfen fachfremde Mitarbeitende in der Zahnarztpraxis nicht tun?\nFachterminologie: Einführung in wichtige Fremdwörter und deren Bedeutung im zahnmedizinischen Kontext.\nDokumentenmanagement: Wie kann man rechtssicher agieren und Unterlagen im Umgang mit Patienten korrekt handhaben?\nUmgang mit Patienten: Tipps zum Umgang mit Angst- und Schmerzpatienten.\nOrganisation: Effektive Strategien für Termin- und Arbeitszeitmanagement.\n\nZiel des Seminars: \nDieses Seminar unterstützt Teilnehmer dabei\, sich schneller in den Praxisalltag einzuarbeiten und die vielfältigen Anforderungen kompetent zu bewältigen. Die Teilnehmenden lernen\, wie sie ihre beruflichen Erfahrungen aus anderen Branchen effektiv in der Zahnarztpraxis einsetzen können. \nReferent*in: \nBettina Winter\nBettina bringt umfassende Erfahrungen aus der zahnmedizinischen Verwaltung mit und ist eine renommierte Expertin in der Branche.
URL:https://winter-praxismanagement.de/seminar/fachfremd-na-und-ein-blick-in-die-zukunft
CATEGORIES:KZVBW
ATTACH;FMTTYPE=image/jpeg:https://winter-praxismanagement.de/wp-content/uploads/2025/01/Fachfremd-na-und-Ein-Blick-in-die-Zukunft-.jpg
END:VEVENT
BEGIN:VEVENT
DTSTART;TZID=UTC:20240223T090000
DTEND;TZID=UTC:20240223T170000
DTSTAMP:20260424T103439
CREATED:20240126T100248Z
LAST-MODIFIED:20240126T100503Z
UID:6773-1708678800-1708707600@winter-praxismanagement.de
SUMMARY:Workshop zur Einführung von fachfremdem Personal an die Rezeption: Synergien nutzen für eine effiziente Praxisführung
DESCRIPTION:Heute möchten wir Ihnen einen aufregenden neuen Workshop vorstellen\, der Ihnen dabei helfen wird\, das Potenzial von fachfremdem Personal an der Rezeption Ihrer Zahnarztpraxis voll auszuschöpfen. In einer Zeit\, in der das Gesetz vorschreibt\, dass ausschließlich qualifiziertes Personal im Bereich der Assistenz eingesetzt werden darf\, möchten wir Ihnen zeigen\, wie Sie die vielfältigen Fähigkeiten anderer Berufsgruppen nutzen können\, um Ihren Rezeptionsbereich zu stärken und zu optimieren. \nDie Bedeutung des Rezeptionsbereichs\nDer Rezeptionsbereich ist die Visitenkarte Ihrer Praxis und der Dreh- und Angelpunkt eines reibungslosen Praxisablaufs. Hier treffen Patienten ein\, Termine werden koordiniert\, und die erste Anlaufstelle für Fragen und Anliegen ist die Rezeption. Dieser zentrale Bereich erfordert nicht nur fachliche Qualifikationen\, sondern auch organisatorisches Geschick und zwischenmenschliche Fähigkeiten. \nSynergien nutzen\nUnser Workshop konzentriert sich auf die Nutzung der Synergien zwischen verschiedenen Berufsgruppen und deren Erfahrungswerten. Bürokauffrauen\, Hotelfachkräfte\, Telefonistinnen\, Verkäuferinnen und viele andere Berufszweige bringen wertvolle Fähigkeiten und Kenntnisse mit\, die sich im Bereich Rezeption und Verwaltung gewinnbringend einsetzen lassen. \nWorkshop-Inhalte\nUnser Workshop bietet ein umfassendes Programm\, um fachfremdes Personal effizient in den Praxisalltag zu integrieren: \n\nWas darf fachfremdes Personal nicht in der Zahnarztpraxis tun?\nEinführung in die relevanten Fremdwörter und deren Bedeutung in der Zahnmedizin.\nRechtssicherheit im Umgang mit Patientinnen und Patienten – welche Unterlagen benötigt der Zahnarzt und wie können Sie diese nahtlos mit den Patienten klären?\nWissenswertes über Angstpatienten und Schmerzpatienten.\nTermin- und Arbeitszeitmanagement – Tipps und Tricks zur optimalen Organisation des Tages.\n\nWorkshop-Details \nKurs-Nr.: 24KKT29902 \nDatum: Freitag\, 23. Februar 2024 \nUhrzeit: 09:00 – 17:00 Uhr \nOrt: KA – Schulungsraum\, Joseph-Meyer-Straße 8-10\, 68167 Mannheim \nSeminargebühr: 225\,00 € \nAnmelde-Link: https://fortbildung.kzvbw.de/programm/praxisteam/kw/bereich/kursdetails/kurs/24KKT29902/kursname/Workshop%20zur%20Einfuehrung%20von%20fachfremdem%20Personal%20an%20die%20Rezeption/kategorie-id/65/#inhalt \nDieser Workshop ist eine einzigartige Gelegenheit\, um das Potenzial Ihres Rezeptionspersonals zu maximieren und die Abläufe in Ihrer Zahnarztpraxis zu optimieren. Wir freuen uns darauf\, Sie beim Workshop zur Einführung von fachfremdem Personal an die Rezeption begrüßen zu dürfen. \nMelden Sie sich noch heute an und sichern Sie sich Ihren Platz! \nMit freundlichen Grüßen\, \nIhre Bettina Winter
URL:https://winter-praxismanagement.de/seminar/einfuehrung-von-fachfremdem-personal-an-die-rezeption-2024-februar
LOCATION:68167 Mannheim\, Joseph-Meyer-Straße 8-10\, Mannheim\, 68167\, Deutschland
CATEGORIES:Seminar
ATTACH;FMTTYPE=image/jpeg:https://winter-praxismanagement.de/wp-content/uploads/2024/01/Workshop-zur-Einfuehrung-von-fachfremdem-Personal-.jpg
END:VEVENT
BEGIN:VEVENT
DTSTART;TZID=UTC:20230711T090000
DTEND;TZID=UTC:20230711T170000
DTSTAMP:20260424T103439
CREATED:20230625T115910Z
LAST-MODIFIED:20230625T115923Z
UID:2176-1689066000-1689094800@winter-praxismanagement.de
SUMMARY:Optimale Einführung Von Wiedereinsteigern An Der Rezeption: Ein Leitfaden Für Den Erfolg
DESCRIPTION:Die gründliche Einarbeitung von neuen Mitarbeitern\, insbesondere von Personen\, die längere Zeit nicht im Beruf waren oder nach einer längeren Pause in die Praxis zurückkehren\, wird oft vernachlässigt. Praxisinhaber oder Teamleiter sind oft der Ansicht\, dass sie sich die Zeit und den Aufwand dafür nicht leisten können. Dies ist jedoch eine klare Fehleinschätzung\, die oft mit Ausreden wie „learning by doing“ oder „Mir hat auch keiner geholfen“ gerechtfertigt wird. Noch schlimmer ist die Aussage: „Mit der Zeit wird das schon.“ Doch unbestreitbar ist\, dass Zeit Geld ist und Fehlerbehebung ein Nullgeschäft darstellt. Eine gründliche Einarbeitung beugt betriebswirtschaftlichen Einbußen vor und erhöht die Zufriedenheit des Personals. \nUnser Seminar soll Sie dabei unterstützen\, Mitarbeiter mithilfe eines speziell auf Ihre Praxisabläufe abgestimmten Einarbeitungskonzepts bestmöglich auf den Arbeitsalltag vorzubereiten. Mit den richtigen Strategien und Tipps lässt sich der Zeit- und Arbeitsaufwand effektiv nutzen. \nZur Anmeldung -> hier klicken \nSchwerpunkte des Seminars: \n\nEin Schritt zurück ist zwei Schritte voraus: Welche Aufgaben müssen bewältigt werden?\n\nErfassen Sie die Aufgaben\, die der Mitarbeiter oder die Mitarbeiterin übernehmen soll\, und stellen Sie sicher\, dass sie klar definiert sind.\n\n\nDie drei Phasen zur Einarbeitung eines Mitarbeiters/einer Mitarbeiterin\n\nLernen Sie die drei Phasen der Einarbeitung kennen und verstehen Sie ihre Bedeutung für einen erfolgreichen Start in den Arbeitsalltag.\n\n\nErstellung eines Einarbeitungsplans\n\nEntwickeln Sie einen strukturierten Einarbeitungsplan\, der den neuen Mitarbeiter oder die neue Mitarbeiterin Schritt für Schritt durch die verschiedenen Aufgaben und Prozesse führt.\n\n\nZeitfenster definieren\n\nLegen Sie klare Zeitfenster für die einzelnen Einarbeitungsschritte fest\, um sicherzustellen\, dass genügend Zeit für das Erlernen der Aufgaben eingeplant ist.\n\n\nProzesse hinterfragen und optimieren\n\nNutzen Sie die Einarbeitungsphase\, um bestehende Prozesse zu überprüfen und gegebenenfalls zu optimieren. Geben Sie dem neuen Mitarbeiter oder der neuen Mitarbeiterin die Möglichkeit\, Verbesserungsvorschläge einzubringen.\n\n\nTeamwork – Was kann jeder im Team beitragen?\n\nFördern Sie das Teamwork und die Zusammenarbeit\, indem Sie die Stärken und Fähigkeiten jedes Teammitglieds nutzen. Jeder kann seinen Beitrag leisten\, um den Einarbeitungsprozess erfolgreich zu gestalten.\n\n\n\nUnsere erfahrene Referentin Bettina Winter verfügt über umfangreiches Wissen und praktische Erfahrungen in der Einführung von Mitarbeitern an der Rezeption. Mit ihrem Fachwissen und ihren praxiserprobten Tipps unterstützt sie Sie dabei\, Wiedereinsteiger optimal in den Praxisalltag einzuführen. \nInvestieren Sie in eine gründliche Einarbeitung und legen Sie den Grundstein für eine erfolgreiche Zusammenarbeit. Melden Sie sich noch heute für unser Seminar an und profitieren Sie von wertvollem Know-how und praxisnahen Lösungsansätzen. \nZur Anmeldung -> hier klicken \nDatum:            Di.\, 11.07.2023 \nUhrzeit:           09:00 – 17:00 Uhr \nOrt:                 KA – Schulungsraum\nJoseph-Meyer-Straße 8-10\n68167 Mannheim \nWir freuen uns darauf\, Sie beim Seminar „Optimale Einführung von Wiedereinsteigern an der Rezeption“ begrüßen zu dürfen!
URL:https://winter-praxismanagement.de/seminar/optimale-einfuehrung-von-wiedereinsteigern-an-der-rezeption-ein-leitfaden-fuer-den-erfolg
LOCATION:68167 Mannheim\, Joseph-Meyer-Straße 8-10\, Mannheim\, 68167\, Deutschland
CATEGORIES:Seminar
ATTACH;FMTTYPE=image/jpeg:https://winter-praxismanagement.de/wp-content/uploads/2023/06/Wiedereinsteiger-an-der-Rezeption-Blog-Banner-.jpg
END:VEVENT
BEGIN:VEVENT
DTSTART;TZID=UTC:20230710T090000
DTEND;TZID=UTC:20230710T170000
DTSTAMP:20260424T103439
CREATED:20230625T120820Z
LAST-MODIFIED:20230625T120820Z
UID:2179-1688979600-1689008400@winter-praxismanagement.de
SUMMARY:Fachfremd – Na Und! Workshop Zur Einführung Von Fachfremdem Personal An Der Rezeption
DESCRIPTION:Willkommen zu unserem Workshop „Fachfremd – Na und!“ zur Einführung von fachfremdem Personal an der Rezeption. \nIn der Zahnarztpraxis spielen qualifizierte Zahnmedizinische Fachangestellte eine wichtige Rolle im Bereich der Assistenz. Gemäß den gesetzlichen Vorgaben ist der Einsatz von fachfremdem Personal in der Assistenz jedoch nicht gestattet. Dennoch ist es wichtig zu erkennen\, dass die Praxis aus viel mehr als nur der Assistenz besteht. Der Rezeptionsbereich bildet unsere Visitenkarte und ist der Dreh- und Angelpunkt für einen optimalen Praxisablauf. Hierbei ergeben sich berufsbedingte Überschneidungen der Aufgabenfelder\, die wir gezielt nutzen können. Bürokauffrauen\, Hotelfachkräfte\, Telefonistinnen\, Verkäuferinnen und weitere Berufszweige bringen wertvolle Erfahrungswerte mit\, die sich im Bereich der Rezeption und Verwaltung einsetzen lassen. Unser Seminar unterstützt ein schnelles Einarbeiten und Zurechtfinden im Praxisalltag und erläutert die Grundlagen der praxisinternen Abläufe sowie der damit verbundenen Regelungen. Von einem kleinen Fremdwörter-Lexikon bis hin zum Einmaleins des Verwaltungsapparates werden verschiedene Bereiche behandelt. \nZur Anmeldung ->  hier klicken \nSchwerpunkte des Workshops:\n\nWas darf ich als fachfremde Mitarbeiterin in der Zahnarztpraxis nicht tun?\n\nWir klären die Grenzen und Aufgabenbereiche\, die fachfremdem Personal an der Rezeption nicht zustehen.\n\n\nEinführung in die relevanten Fremdwörter und deren Bedeutung in der Zahnmedizin\n\nWir bringen Ihnen die wichtigsten Fachbegriffe bei\, um ein besseres Verständnis für die Zahnmedizin zu erlangen.\n\n\nRechtssicherheit beim Zahnarzt – Welche Unterlagen benötigt der Zahnarzt im Umgang mit den Patientinnen und Patienten\, und wie können wir diese mit dem Patienten lückenlos klären?\n\nWir geben Ihnen einen Überblick über die rechtlichen Anforderungen und zeigen Ihnen\, wie Sie die Kommunikation mit den Patienten professionell gestalten können.\n\n\nWissenswertes über Angstpatientinnen und -patienten/Schmerzpatientinnen und -patienten\n\nWir sensibilisieren Sie für den Umgang mit Patienten\, die unter Angst oder Schmerzen leiden\, und zeigen Ihnen Strategien auf\, um ihnen bestmöglich zu helfen.\n\n\nTermin- und Arbeitszeitmanagement – Wie organisiert man den Tag am besten?\n\nWir geben Ihnen Tipps und Tricks zur effizienten Organisation von Terminen und Arbeitszeiten\, um den Praxisablauf optimal zu gestalten.\n\n\n\nUnsere Referentin Bettina Winter verfügt über langjährige Erfahrung in der Zahnarztpraxisverwaltung und kennt die Herausforderungen\, die fachfremdes Personal an der Rezeption bewältigen muss. Mit ihrer Expertise unterstützt sie Sie dabei\, sich schnell in den Praxisalltag einzufinden und die relevanten Abläufe zu verstehen. \nMachen Sie sich keine Sorgen\, wenn Sie fachfremd sind – dieser Workshop zeigt Ihnen\, dass Ihre Erfahrungen und Fähigkeiten wertvoll für den Rezeptionsbereich einer Zahnarztpraxis sind. Nutzen Sie diese Chance\, um Ihre Kenntnisse zu erweitern und einen Beitrag zum optimalen Praxisablauf zu leisten. \nMelden Sie sich noch heute für unseren Workshop „Fachfremd – Na und!“ an und werden Sie zur kompetenten Unterstützung an der Zahnarztpraxisrezeption! \nZur Anmeldung ->  hier klicken \nKurs-Nr.:         23KKT29903 \nDatum:            Mo.\, 10.07.2023 \nUhrzeit:           09:00 – 17:00 Uhr \nOrt:                 KA – Schulungsraum \nJoseph-Meyer-Straße 8-10 \n68167 Mannheim \nGebühr:          225\,00 €
URL:https://winter-praxismanagement.de/seminar/fachfremd-na-und-workshop-zur-einfuehrung-von-fachfremdem-personal-an-der-rezeption
LOCATION:68167 Mannheim\, Joseph-Meyer-Straße 8-10\, Mannheim\, 68167\, Deutschland
CATEGORIES:Seminar
ATTACH;FMTTYPE=image/jpeg:https://winter-praxismanagement.de/wp-content/uploads/2023/06/Fachfremd-na-und-Blog-Banner-.jpg
END:VEVENT
BEGIN:VEVENT
DTSTART;TZID=UTC:20230310T153000
DTEND;TZID=UTC:20230310T183000
DTSTAMP:20260424T103439
CREATED:20230123T163652Z
LAST-MODIFIED:20230130T095526Z
UID:2065-1678462200-1678473000@winter-praxismanagement.de
SUMMARY:Crashkurs Abrechnung - Fit für die Abschlussprüfung!
DESCRIPTION:Verrückt – hast du auch das Gefühl\, deine Ausbildung hat erst gestern erst begonnen und plötzlich sind 3 Jahre rum und die Abschlussprüfung steht an? Damit bist du nicht alleine! In deiner Ausbildungszeit hast du dir viel Wissen angeeignet mit dem du dich gut auf die Prüfung vorbereiten kannst. Beim Thema Abrechnung dreht sich aber dir noch der Magen um? Kein Problem\, wir schließen die Lücken und unterstützen dich mit unserem Crashkurs Abrechnung auf deinem Weg zur Abschlussprüfung. \n  \n\nGrundlagen BEMA und GOZ – Abrechnungswege\nKonservierende Behandlungen\n\nAllgemeine Behandlungen und Beratungen\nFüllungen – Mehrkostenvereinbarungen und Co\nEndodontie\n\n\nChirurgische Behandlungen\nProphylaxe Leistungen\nPAR-Leistungen\n\n  \nAnmelden könnt ihr euch unter info@winter-praxismanagement.de \nPreis: 99 € + MwSt.
URL:https://winter-praxismanagement.de/seminar/crashkurs-abrechnung-fit-fuer-die-abschlusspruefung-2
CATEGORIES:Seminar
ATTACH;FMTTYPE=image/jpeg:https://winter-praxismanagement.de/wp-content/uploads/2023/01/10-Maerz.jpg
END:VEVENT
BEGIN:VEVENT
DTSTART;TZID=UTC:20230308T153000
DTEND;TZID=UTC:20230308T183000
DTSTAMP:20260424T103439
CREATED:20230123T164435Z
LAST-MODIFIED:20230130T095605Z
UID:2071-1678289400-1678300200@winter-praxismanagement.de
SUMMARY:Azubi vs. Heil- und Kostenplan
DESCRIPTION:Unser Onlineseminar steht ganz im Zeichen des Heil- und Kostenplanes. \n  \nStehst Du kurz vor der Abschlussprüfung und bist Dir nicht sicher\, ob Du alles richtig verstehst? \nBist Du immer am zweifeln\, ob Du die einzelnen Bereiche auf dem HKP richtig ausfüllst? \nWeißt Du oft nicht\, ob der Befund wirklich den Festzuschuss auslöst? \nSuchst Du nach jemandem\, der Dir endlich erklärt wie das funktioniert? \n  \nDann bist Du in dem Seminar richtig! \nAlle wissenswerten Punkte die Du brauchst um eine gute Note für Deine Abschlussprüfung zu erreichen\, werden in dem Seminar einfach und zielführend erklärt. \n\nDu bekommst praktische Beispiele zur Erstellung eines HKPs\nDu wirst endlich verstehen was der Inhalt der Festzuschüsse bedeutet\nDu kannst in Gruppen arbeiten und Ihr könnt gemeinsam Euer Wissen festigen\nDu hast auch später noch Zugriff auf die Präsentation und kannst diese auch langfristig nutzen für den Praxisalltag.\n\n  \nWenn Du das alles brauchst\, um sicher in die Abschlussprüfung zu gehen\, melde Dich für das Seminar an! \nAnmeldung unter info@winter-praxismanagement.de \nPreis: 99 € + MwSt.
URL:https://winter-praxismanagement.de/seminar/azubi-vs-heil-und-kostenplan-4
CATEGORIES:Seminar
ATTACH;FMTTYPE=image/jpeg:https://winter-praxismanagement.de/wp-content/uploads/2023/01/08-Maerz-2.jpg
END:VEVENT
BEGIN:VEVENT
DTSTART;TZID=UTC:20230224T153000
DTEND;TZID=UTC:20230224T183000
DTSTAMP:20260424T103439
CREATED:20230123T164153Z
LAST-MODIFIED:20230130T095645Z
UID:2068-1677252600-1677263400@winter-praxismanagement.de
SUMMARY:Azubi vs. Heil- und Kostenplan
DESCRIPTION:Unser Onlineseminar steht ganz im Zeichen des Heil- und Kostenplanes. \n  \nStehst Du kurz vor der Abschlussprüfung und bist Dir nicht sicher\, ob Du alles richtig verstehst? \nBist Du immer am zweifeln\, ob Du die einzelnen Bereiche auf dem HKP richtig ausfüllst? \nWeißt Du oft nicht\, ob der Befund wirklich den Festzuschuss auslöst? \nSuchst Du nach jemandem\, der Dir endlich erklärt wie das funktioniert? \n  \nDann bist Du in dem Seminar richtig! \nAlle wissenswerten Punkte die Du brauchst um eine gute Note für Deine Abschlussprüfung zu erreichen\, werden in dem Seminar einfach und zielführend erklärt. \n\nDu bekommst praktische Beispiele zur Erstellung eines HKPs\nDu wirst endlich verstehen was der Inhalt der Festzuschüsse bedeutet\nDu kannst in Gruppen arbeiten und Ihr könnt gemeinsam Euer Wissen festigen\nDu hast auch später noch Zugriff auf die Präsentation und kannst diese auch langfristig nutzen für den Praxisalltag.\n\n  \nWenn Du das alles brauchst\, um sicher in die Abschlussprüfung zu gehen\, melde Dich für das Seminar an! \nAnmeldung unter info@winter-praxismanagement.de \nPreis: 99 € + MwSt.
URL:https://winter-praxismanagement.de/seminar/azubi-vs-heil-und-kostenplan-3
CATEGORIES:Seminar
ATTACH;FMTTYPE=image/jpeg:https://winter-praxismanagement.de/wp-content/uploads/2023/01/08-Maerz.jpg
END:VEVENT
BEGIN:VEVENT
DTSTART;TZID=UTC:20230222T153000
DTEND;TZID=UTC:20230222T183000
DTSTAMP:20260424T103439
CREATED:20230123T162254Z
LAST-MODIFIED:20230130T095730Z
UID:2061-1677079800-1677090600@winter-praxismanagement.de
SUMMARY:Crashkurs Abrechnung – Fit für die Abschlussprüfung!
DESCRIPTION:Verrückt – hast du auch das Gefühl\, deine Ausbildung hat erst gestern erst begonnen und plötzlich sind 3 Jahre rum und die Abschlussprüfung steht an? Damit bist du nicht alleine! In deiner Ausbildungszeit hast du dir viel Wissen angeeignet mit dem du dich gut auf die Prüfung vorbereiten kannst. Beim Thema Abrechnung dreht sich aber dir noch der Magen um? Kein Problem\, wir schließen die Lücken und unterstützen dich mit unserem Crashkurs Abrechnung auf deinem Weg zur Abschlussprüfung. \n  \n\nGrundlagen BEMA und GOZ – Abrechnungswege\nKonservierende Behandlungen\n\nAllgemeine Behandlungen und Beratungen\nFüllungen – Mehrkostenvereinbarungen und Co\nEndodontie\n\n\nChirurgische Behandlungen\nProphylaxe Leistungen\nPAR-Leistungen\n\n  \nAnmelden könnt ihr euch unter info@winter-praxismanagement.de \nPreis: 99 € + MwSt.
URL:https://winter-praxismanagement.de/seminar/crashkurs-abrechnung-fit-fuer-die-abschlusspruefung
CATEGORIES:Seminar
ATTACH;FMTTYPE=image/jpeg:https://winter-praxismanagement.de/wp-content/uploads/2023/01/Winter_Praxismanagement_Blog_22_02_2023-Crashkurs-Abrechnung.jpg
END:VEVENT
BEGIN:VEVENT
DTSTART;TZID=UTC:20220506T150000
DTEND;TZID=UTC:20220506T180000
DTSTAMP:20260424T103439
CREATED:20220411T112647Z
LAST-MODIFIED:20220414T133926Z
UID:1805-1651849200-1651860000@winter-praxismanagement.de
SUMMARY:Azubi vs. Heil- und Kostenplan
DESCRIPTION:Unser Onlineseminar steht ganz im Zeichen des Heil- und Kostenplanes. \nStehst Du kurz vor der Abschlussprüfung und bist Dir nicht sicher\, ob Du alles richtig verstehst? \nBist Du immer am zweifeln ob Du die einzelnen Bereiche auf dem HKP richtig ausfüllst? \nWeißt Du oft nicht ob der Befund wirklich den Festzuschuss auslöst? \nSuchst Du nach jemand der Dir endlich erklärt wie das funktioniert? \nDann bist Du in dem Seminar richtig! \nAlle wissenswerten Punkte die Du brauchst um eine Gute Note für Deine Abschlussprüfung zu erreichen\, werden in dem Seminar einfach und zielführend erklärt. \nDu bekommst praktische Beispiele zur Erstellung eines HKPs \nDu wirst endlich verstehen was der Inhalt der Festzuschüsse bedeutet \nDu kannst in Gruppen arbeiten und Ihr könnt gemeinsam Euer Wissen festigen \nDu hast auch später noch Zugriff auf die Präsentation und kannst diese auch langfristig nutzen für den Praxisalltag. \nWenn Du das alles brauchst um sicher in die Abschlussprüfung zu gehen\, melde Dich schnell an! \nAnmeldung unter info@winter-praxismanagement.de
URL:https://winter-praxismanagement.de/seminar/azubi-vs-heil-und-kostenplan-2
LOCATION:Virtuell
CATEGORIES:Ausbildung
ATTACH;FMTTYPE=image/jpeg:https://winter-praxismanagement.de/wp-content/uploads/2022/02/Azubi-vs.-AbschlusspruefungWinter-Praxismanagement.jpg
ORGANIZER;CN="Winter Praxismanagement":MAILTO:info@winter-praxismanagement.de
END:VEVENT
BEGIN:VEVENT
DTSTART;TZID=UTC:20220401T030000
DTEND;TZID=UTC:20220401T180000
DTSTAMP:20260424T103439
CREATED:20220228T110944Z
LAST-MODIFIED:20220302T073433Z
UID:1768-1648782000-1648836000@winter-praxismanagement.de
SUMMARY:Azubi vs. Heil- und Kostenplan | 01.04.2022
DESCRIPTION:Unser Onlineseminar steht ganz im Zeichen des Heil- und Kostenplanes. \nStehst Du kurz vor der Abschlussprüfung und bist Dir nicht sicher\, ob Du alles richtig verstehst? \nBist Du immer am zweifeln ob Du die einzelnen Bereiche auf dem HKP richtig ausfüllst? \nWeißt Du oft nicht ob der Befund wirklich den Festzuschuss auslöst? \nSuchst Du nach jemand der Dir endlich erklärt wie das funktioniert? \nDann bist Du in dem Seminar richtig! \nAlle wissenswerten Punkte die Du brauchst um eine Gute Note für Deine Abschlussprüfung zu erreichen\, werden in dem Seminar einfach und zielführend erklärt. \nDu bekommst praktische Beispiele zur Erstellung eines HKPs \nDu wirst endlich verstehen was der Inhalt der Festzuschüsse bedeutet \nDu kannst in Gruppen arbeiten und Ihr könnt gemeinsam Euer Wissen festigen \nDu hast auch später noch Zugriff auf die Präsentation und kannst diese auch langfristig nutzen für den Praxisalltag. \n  \nWenn Du das alles brauchst um sicher in die Abschlussprüfung zu gehen\, melde Dich schnell an! \nAnmeldung unter info@winter-praxismanagement.de
URL:https://winter-praxismanagement.de/seminar/azubi-vs-heil-und-kostenplan
LOCATION:Virtuell
CATEGORIES:Ausbildung
ATTACH;FMTTYPE=image/jpeg:https://winter-praxismanagement.de/wp-content/uploads/2022/02/Azubi-vs.-AbschlusspruefungWinter-Praxismanagement.jpg
ORGANIZER;CN="Winter Praxismanagement":MAILTO:info@winter-praxismanagement.de
END:VEVENT
BEGIN:VEVENT
DTSTART;TZID=UTC:20220323T150000
DTEND;TZID=UTC:20220323T180000
DTSTAMP:20260424T103439
CREATED:20220226T142429Z
LAST-MODIFIED:20220302T071935Z
UID:1762-1648047600-1648058400@winter-praxismanagement.de
SUMMARY:Azubi vs. Heil- und Kostenplan | 23.03.2022
DESCRIPTION:Unser Onlineseminar steht ganz im Zeichen des Heil- und Kostenplanes. \nStehst Du kurz vor der Abschlussprüfung und bist Dir nicht sicher\, ob Du alles richtig verstehst? \nBist Du immer am zweifeln ob Du die einzelnen Bereiche auf dem HKP richtig ausfüllst? \nWeißt Du oft nicht ob der Befund wirklich den Festzuschuss auslöst? \nSuchst Du nach jemand der Dir endlich erklärt wie das funktioniert? \nDann bist Du in dem Seminar richtig! \nAlle wissenswerten Punkte die Du brauchst um eine Gute Note für Deine Abschlussprüfung zu erreichen\, werden in dem Seminar einfach und zielführend erklärt. \nDu bekommst praktische Beispiele zur Erstellung eines HKPs \nDu wirst endlich verstehen was der Inhalt der Festzuschüsse bedeutet \nDu kannst in Gruppen arbeiten und Ihr könnt gemeinsam Euer Wissen festigen \nDu hast auch später noch Zugriff auf die Präsentation und kannst diese auch langfristig nutzen für den Praxisalltag. \n  \nWenn Du das alles brauchst um sicher in die Abschlussprüfung zu gehen\, melde Dich schnell an! \nAnmeldung unter info@winter-praxismanagement.de \n  \n 
URL:https://winter-praxismanagement.de/seminar/azubi-vs-abschlusspruefung
LOCATION:Virtuell
CATEGORIES:Ausbildung
ATTACH;FMTTYPE=image/jpeg:https://winter-praxismanagement.de/wp-content/uploads/2022/02/Azubi-vs.-AbschlusspruefungWinter-Praxismanagement.jpg
ORGANIZER;CN="Winter Praxismanagement":MAILTO:info@winter-praxismanagement.de
END:VEVENT
END:VCALENDAR